Workbook

Sheet Calculation
A1: Friedrich-Schiedel-Fellowship 2026 - Cohort #3
A2: =CELL("Dateiname") -> H:\Friedrich Schiedel Fellowship\Kalkulation_allgemein\2026\[20260413_FSF3_Cost Calculation Template.xlsx]Example
I3: Financial summary
A4: Fellow Name | I4: Total grant | K4: 20000 | Q4: Please fill in the yellow data fields
A5: Unique Identifier | B5: =IFERROR(VLOOKUP($B$4,Stammdaten!$E$44:$G$54,2,FALSE)," ") | I5: Budget used | K5: =SUM(K6:K11) -> 0
A6: Name of Project | B6: =IFERROR(VLOOKUP($B$4,Stammdaten!$E$44:$G$54,3,FALSE)," ") | I6: =LEFT(A16,18) -> A1. Salary upgrade | K6: =IF(N18=0,N20,N18) -> 0
I7: =A22 -> A2. Student assistants | K7: =N24 -> 0
I8: =A36 -> B1. Infrastructure | K8: =F38 -> 0
I9: =LEFT(A50,22) -> B2. Workshops & Events | K9: =F52 -> 0
I10: =LEFT(A64,16) -> B3. Travel costs | K10: =F66 -> 0
I11: =A78 -> B4. Other costs | K11: =F80 -> 0
I12: Budget available | K12: =K4-K5 -> 20000
A14: A. Calculation of HR | I14: Total HR expenditures | N14: =IF(N20>0,N20+N24,N18+N24) -> 0 | P14: Info
A16: A1. Salary upgrade (fill in 1st line for TUM employees, or 2nd line for fellows outside TUM) | J16: 45688 | L16: 45689
A17: Starting date (tt.mm.yyyy) | B17: Ending date (tt.mm.yyyy) | C17: Months | D17: Individual salary group (TUM) (choose from list) | F17: Individual level of experience (choose from list) | G17: Individual workshare | I17: Upgrade-percentage | J17: monthly Salary (100% until 02.2027) | K17: Months1 | L17: monthly Salary (100%, from 03/27) | M17: Months2 | N17: Budget used | P17: Fellows with a contract less than 100% can use the fellowship to temporarily upgrade their salary. If fellows already have a 100% contract, we cannot pay individual stipends or other types of working contracts. To check this, please state your individual work share.
A18: 00.00.0000 | B18: 00.00.0000 | C18: =DATEDIF(A18,B18,"M")+1 -> #VALUE! | D18: E12 | F18: 4 | G18: 0 | I18: 0 | J18: =IF($B$18<$L$22="WAHR",0,IFERROR(VLOOKUP($D$18,Tabellengehälter_2026!$A$3:$G$21,$F$18+1,FALSE),0)) -> 7760.2833 | K18: =IFERROR(IF($B$18>$J$22,DATEDIF($A$18,$J$22,"M")+1,DATEDIF($A$18,$B$18,"M")+1),0) -> 0 | L18: =IF($B$18<$L$22=TRUE,0,IFERROR(VLOOKUP($D$18,Tabellengehälter_2027!$A$3:$G$21,$F$18+1,FALSE)," ")) -> 7915.4917 | M18: =C18-K18 -> #VALUE! | N18: =IFERROR((J18*$I$18*$K$18)+($L$18*$I$18*$M$18),0) -> 0
A19: Starting date (tt.mm.yyyy) | B19: Ending date (tt.mm.yyyy) | C19: Months | D19: Individual salary (non-TUM) in EUR/month | G19: Individual workshare | I19: Upgrade-percentage | N19: Budget used
C20: =DATEDIF(A20,B20,"M")+1 -> 1 | N20: =IFERROR((D20/G20*I20*C20),0) -> 0
A22: A2. Student assistants | J22: 46477 | L22: 46478
A23: Starting date (tt.mm.yyyy) | B23: Ending date (tt.mm.yyyy) | C23: Months | D23: BA / no degree (choose from list) | F23: Weekly working hours | G23: Name of assistant (if available) | J23: monthly Salary (04/2026 until 03/2027) | K23: Months | L23: monthly Salary (04/2027) | M23: Months | N23: Budget used | P23: Student assistants will be paid the standard TUM rates. For contracts with a weekly workload > 8 hours, social insurance fees apply. This is considered in the calculated values.
N24: =IFERROR(SUM(N25:N31),0) -> 0
A25: 00.00.0000 | B25: 00.00.0000 | C25: =DATEDIF(A25,B25,"M")+1 -> #VALUE! | D25: no degree | J25: =IFERROR(IF(F25>8.5,VLOOKUP($F25,Stundensätze!$A$5:$C$43,$O25+1,FALSE)*1.093*1.3,VLOOKUP($F25,Stundensätze!$A$5:$C$43,$O25+1,FALSE)*1.093),0) -> 0 | K25: =IFERROR(MIN(C25,DATEDIF(A25,$J$22,"M")+1),0) -> 0 | L25: =IFERROR(IF(F25>8.5,VLOOKUP($F25,Stundensätze!$A$5:$C$43,$O25+1,FALSE)*1.093*1.3,VLOOKUP($F25,Stundensätze!$E$5:$G$43,$O25+1,FALSE)*1.093),0) -> 0 | M25: =IFERROR(DATEDIF($L$22,B25,"M")+1,0) -> 0 | N25: =IFERROR(($J25*$K25)+($L25*$M25),0) -> 0 | O25: =IF(D25="BA/MA",1,2) -> 2
C26: =DATEDIF(A26,B26,"M")+1 -> 1 | J26: =IFERROR(IF(F26>8,VLOOKUP($F26,Stundensätze!$A$5:$C$43,$O26+1,FALSE)*1.093*1.3,VLOOKUP($F26,Stundensätze!$A$5:$C$43,$O26+1,FALSE)*1.093),0) -> 0 | K26: =IFERROR(DATEDIF(A26,$J$22,"M")+1,0) -> 1527 | L26: =IFERROR(IF(F26>8,VLOOKUP($F26,Stundensätze!$A$5:$C$43,$O26+1,FALSE)*1.093*1.3,VLOOKUP($F26,Stundensätze!$E$5:$G$43,$O26+1,FALSE)*1.093),0) -> 0 | M26: =IFERROR(DATEDIF($L$22,B26,"M")+1,0) -> 0 | N26: =IFERROR(($J26*$K26)+($L26*$M26),0) -> 0 | O26: =IF(D26="BA/MA",1,2) -> 2
C27: =DATEDIF(A27,B27,"M")+1 -> 1 | J27: =IFERROR(IF(F27>8,VLOOKUP($F27,Stundensätze!$A$5:$C$43,$O27+1,FALSE)*1.093*1.3,VLOOKUP($F27,Stundensätze!$A$5:$C$43,$O27+1,FALSE)*1.093),0) -> 0 | K27: =IFERROR(DATEDIF(A27,$J$22,"M")+1,0) -> 1527 | L27: =IFERROR(IF(F27>8,VLOOKUP($F27,Stundensätze!$A$5:$C$43,$O27+1,FALSE)*1.093*1.3,VLOOKUP($F27,Stundensätze!$E$5:$G$43,$O27+1,FALSE)*1.093),0) -> 0 | M27: =IFERROR(DATEDIF($L$22,B27,"M")+1,0) -> 0 | N27: =IFERROR(($J27*$K27)+($L27*$M27),0) -> 0 | O27: =IF(D27="BA/MA",1,2) -> 2
C28: =DATEDIF(A28,B28,"M")+1 -> 1 | J28: =IFERROR(IF(F28>8,VLOOKUP($F28,Stundensätze!$A$5:$C$43,$O28+1,FALSE)*1.093*1.3,VLOOKUP($F28,Stundensätze!$A$5:$C$43,$O28+1,FALSE)*1.093),0) -> 0 | K28: =IFERROR(DATEDIF(A28,$J$22,"M")+1,0) -> 1527 | L28: =IFERROR(IF(F28>8,VLOOKUP($F28,Stundensätze!$A$5:$C$43,$O28+1,FALSE)*1.093*1.3,VLOOKUP($F28,Stundensätze!$E$5:$G$43,$O28+1,FALSE)*1.093),0) -> 0 | M28: =IFERROR(DATEDIF($L$22,B28,"M")+1,0) -> 0 | N28: =IFERROR(($J28*$K28)+($L28*$M28),0) -> 0 | O28: =IF(D28="BA/MA",1,2) -> 2
C29: =DATEDIF(A29,B29,"M")+1 -> 1 | J29: =IFERROR(IF(F29>8,VLOOKUP($F29,Stundensätze!$A$5:$C$43,$O29+1,FALSE)*1.093*1.3,VLOOKUP($F29,Stundensätze!$A$5:$C$43,$O29+1,FALSE)*1.093),0) -> 0 | K29: =IFERROR(DATEDIF(A29,$J$22,"M")+1,0) -> 1527 | L29: =IFERROR(IF(F29>8,VLOOKUP($F29,Stundensätze!$A$5:$C$43,$O29+1,FALSE)*1.093*1.3,VLOOKUP($F29,Stundensätze!$E$5:$G$43,$O29+1,FALSE)*1.093),0) -> 0 | M29: =IFERROR(DATEDIF($L$22,B29,"M")+1,0) -> 0 | N29: =IFERROR(($J29*$K29)+($L29*$M29),0) -> 0 | O29: =IF(D29="BA/MA",1,2) -> 2
C30: =DATEDIF(A30,B30,"M")+1 -> 1 | J30: =IFERROR(IF(F30>8,VLOOKUP($F30,Stundensätze!$A$5:$C$43,$O30+1,FALSE)*1.093*1.3,VLOOKUP($F30,Stundensätze!$A$5:$C$43,$O30+1,FALSE)*1.093),0) -> 0 | K30: =IFERROR(DATEDIF(A30,$J$22,"M")+1,0) -> 1527 | L30: =IFERROR(IF(F30>8,VLOOKUP($F30,Stundensätze!$A$5:$C$43,$O30+1,FALSE)*1.093*1.3,VLOOKUP($F30,Stundensätze!$E$5:$G$43,$O30+1,FALSE)*1.093),0) -> 0 | M30: =IFERROR(DATEDIF($L$22,B30,"M")+1,0) -> 0 | N30: =IFERROR(($J30*$K30)+($L30*$M30),0) -> 0 | O30: =IF(D30="BA/MA",1,2) -> 2
C31: =DATEDIF(A31,B31,"M")+1 -> 1 | J31: =IFERROR(IF(F31>8,VLOOKUP($F31,Stundensätze!$A$5:$C$43,$O31+1,FALSE)*1.093*1.3,VLOOKUP($F31,Stundensätze!$A$5:$C$43,$O31+1,FALSE)*1.093),0) -> 0 | K31: =IFERROR(DATEDIF(A31,$J$22,"M")+1,0) -> 1527 | L31: =IFERROR(IF(F31>8,VLOOKUP($F31,Stundensätze!$A$5:$C$43,$O31+1,FALSE)*1.093*1.3,VLOOKUP($F31,Stundensätze!$E$5:$G$43,$O31+1,FALSE)*1.093),0) -> 0 | M31: =IFERROR(DATEDIF($L$22,B31,"M")+1,0) -> 0 | N31: =IFERROR(($J31*$K31)+($L31*$M31),0) -> 0 | O31: =IF(D31="BA/MA",1,2) -> 2
A34: B. Calculation of non-HR expenditures | J34: Total non-HR expenditures | N34: =F38+F52+F66+F80 -> 0
A36: B1. Infrastructure
A37: Description | D37: Price per item / EUR | E37: pieces | F37: Budget used | H37: Fellows Comments | P37: If you buy equipment, such as hardware or software, please make sure, that adressee of the invoice is Technical University Munich Chair / Professorship Street and Number (of Chair / Professorship) Zip City Germany Please state the unique identifier of your project and / or your name when ordering! This enables the correct accounting of your project costs.
F38: =SUM(F39:F48) -> 0
F39: =D39*E39 -> 0
F40: =D40*E40 -> 0
F41: =D41*E41 -> 0
F42: =D42*E42 -> 0
F43: =D43*E43 -> 0
F44: =D44*E44 -> 0
F45: =D45*E45 -> 0
F46: =D46*E46 -> 0
...

Sheet Tabellengehälter
A1: Entgelttabelle TV-L 2024 (bis 31.10.2024, inkl. AG-Anteil 26,44%) | H1: Jahressonderzahlung TV-L
A2: € | B2: 1 | C2: 2 | D2: 3 | E2: 4 | F2: 5 | G2: 6
A3: E 15Ü | B3: 8074.5577 | C3: 8948.9165 | D3: 9778.7436 | E3: 10322.979 | F3: 10456.86 | H3: 0.3253 | J3: 2018 | K3: 2019 | L3: 2020 | M3: 2022
A4: E 15 | B4: 6639.1066 | C4: 7128.7589 | D4: 7387.5068 | E4: 8306.553 | F4: 9002.4868 | G4: 9268.858 | H4: 0.3253 | I4: E 14 bis E 15 | J4: 0.35 | K4: 0.3398 | L4: 0.3295 | M4: 0.3253
A5: E 14 | B5: 6022.6646 | C5: 6468.4867 | D5: 6834.3234 | E5: 7387.5068 | F5: 8235.1259 | G5: 8478.4975 | H5: 0.3253 | I5: E 12 bis E 13 | J5: 0.5 | K5: 0.4854 | L5: 0.4707 | M5: 0.4647
A6: E 13Ü | C6: 6045.3882 | D6: 6361.2131 | E6: 7471.0721 | F6: 8328.2791 | G6: 8574.4037 | H6: 0.3253 | I6: E 9a bis E 11 | J6: 0.8 | K6: 0.7766 | L6: 0.7531 | M6: 0.7435
A7: E 13 | B7: 5625.5186 | C7: 6045.3882 | D7: 6361.2131 | E7: 6974.7909 | F7: 7822.9751 | G7: 8053.9303 | H7: 0.4647 | I7: E 5 bis E 8 | J7: 0.95 | K7: 0.9219 | L7: 0.894 | M7: 0.88295
A8: E 12 | B8: 5082.4159 | C8: 5431.7972 | D8: 6171.7208 | E8: 6821.403 | F8: 7660.5644 | G8: 7886.6339 | H8: 0.4647 | I8: E 1 bis E 4 | K8: 0.9169 | L8: 0.8891 | M8: 0.88295
A9: E 11 | B9: 5031.9931 | C9: 5361.9588 | D9: 5737.8061 | E9: 6309.7745 | F9: 7140.0463 | G9: 7350.4274 | H9: 0.7435
A10: E 10 | B10: 4858.7524 | C10: 5182.5549 | D10: 5553.2998 | E10: 5931.5103 | F10: 6651.1267 | G10: 6846.8449 | H10: 0.7435
A11: E 9b | B11: 4339.0704 | C11: 4651.2448 | D11: 4854.6167 | E11: 5416.5951 | F11: 5894.6385 | G11: 6067.6779 | H11: 0.7435
A12: E 9a | B12: 4339.0704 | C12: 4651.2448 | D12: 4719.0534 | E12: 4854.6167 | F12: 5416.5951 | G12: 5573.5483 | H12: 0.7435
A13: E 8 | B13: 4128.453 | C13: 4436.6176 | D13: 4607.8985 | E13: 4770.6819 | F13: 4950.569 | G13: 5061.9193 | H13: 0.88295
A14: E 7 | B14: 3892.1103 | C14: 4193.0533 | D14: 4419.4596 | E14: 4590.7813 | F14: 4727.8549 | G14: 4847.757 | H14: 0.88295
A15: E 6 | B15: 3828.7317 | C15: 4126.6069 | D15: 4292.7432 | E15: 4462.3138 | F15: 4573.6505 | G15: 4693.5661 | H15: 0.88295

Sheet Tabellengehälter_2025_1
A1: Entgelttabelle TV-L 2025 (ab 01.11.2024 bis 31.01.2025, inkl. AG-Anteil 30% und JSZ) | H1: Jahressonderzahlung TV-L
A2: € | B2: 1 | C2: 2 | D2: 3 | E2: 4 | F2: 5 | G2: 6
A3: E15Ü | B3: 8211.0398 | C3: 9085.3985 | D3: 9915.2257 | E3: 10459.461 | F3: 10593.342 | H3: 0.3253 | J3: 2018 | K3: 2019 | L3: 2020 | M3: 2022
A4: E15 | B4: 6775.5886 | C4: 7265.2409 | D4: 7523.9889 | E4: 8443.035 | F4: 9138.9688 | G4: 9405.34 | H4: 0.3253 | I4: E 14 bis E 15 | J4: 0.35 | K4: 0.3398 | L4: 0.3295 | M4: 0.3253
A5: E14 | B5: 6159.1467 | C5: 6604.9687 | D5: 6970.8054 | E5: 7523.9889 | F5: 8371.6079 | G5: 8614.9795 | H5: 0.3253 | I5: E 12 bis E 13 | J5: 0.5 | K5: 0.4854 | L5: 0.4707 | M5: 0.4647
A6: E13Ü | C6: 6183.4141 | D6: 6499.239 | E6: 7609.098 | F6: 8466.305 | G6: 8712.4296 | H6: 0.3253 | I6: E 9a bis E 11 | J6: 0.8 | K6: 0.7766 | L6: 0.7531 | M6: 0.7435
A7: E13 | B7: 5763.5445 | C7: 6183.4141 | D7: 6499.239 | E7: 7112.8168 | F7: 7961.001 | G7: 8191.9562 | H7: 0.4647 | I7: E 5 bis E 8 | J7: 0.95 | K7: 0.9219 | L7: 0.894 | M7: 0.8814
A8: E12 | B8: 5220.4418 | C8: 5569.8231 | D8: 6309.7467 | E8: 6959.4289 | F8: 7798.5903 | G8: 8024.6598 | H8: 0.4647 | I8: E 1 bis E 4 | K8: 0.9169 | L8: 0.8891 | M8: 0.8743
A9: E11 | B9: 5173.1065 | C9: 5503.0722 | D9: 5878.9195 | E9: 6450.8878 | F9: 7281.1597 | G9: 7491.5541 | H9: 0.7435
A10: E10 | B10: 4999.8657 | C10: 5323.6683 | D10: 5694.4131 | E10: 6072.6236 | F10: 6792.24 | G10: 6987.9851 | H10: 0.7435
A11: E9b | B11: 4480.1838 | C11: 4792.3582 | D11: 4995.7301 | E11: 5557.7084 | F11: 6035.7519 | G11: 6208.7912 | H11: 0.7435
A12: E9a | B12: 4480.1838 | C12: 4792.3582 | D12: 4860.1667 | E12: 4995.7301 | F12: 5557.7084 | G12: 5714.6617 | H12: 0.7435
A13: E8 | B13: 4271.1102 | C13: 4579.2748 | D13: 4750.5557 | E13: 4913.3391 | F13: 5093.2262 | G13: 5204.5765 | H13: 0.8814
A14: E 7 | B14: 4034.7675 | C14: 4335.7105 | D14: 4562.1168 | E14: 4733.4385 | F14: 4870.5121 | G14: 4990.4142 | H14: 0.8814
A15: E 6 | B15: 3971.3889 | C15: 4269.2641 | D15: 4435.4004 | E15: 4604.971 | F15: 4716.3077 | G15: 4836.2233 | H15: 0.8814

Sheet Example
A1: Friedrich-Schiedel-Fellowship 2026 - Cohort #3
A2: =CELL("Dateiname") -> H:\Friedrich Schiedel Fellowship\Kalkulation_allgemein\2026\[20260413_FSF3_Cost Calculation Template.xlsx]Example
I3: Financial summary
A4: Fellow Name | I4: Total grant | K4: 20000 | Q4: Please fill in the yellow data fields
A5: Unique Identifier | B5: =IFERROR(VLOOKUP($B$4,Stammdaten!$E$44:$G$54,2,FALSE)," ") | I5: Budget used | K5: =SUM(K6:K11) -> 17244.763
A6: Name of Project | B6: =IFERROR(VLOOKUP($B$4,Stammdaten!$E$44:$G$54,3,FALSE)," ") | I6: =LEFT(A16,18) -> A1. Salary upgrade | K6: =IF(N18=0,N20,N18) -> 9565.1687
I7: =A22 -> A2. Student assistants | K7: =N24 -> 3779.594
I8: =A36 -> B1. Infrastructure | K8: =F38 -> 2000
I9: =LEFT(A50,22) -> B2. Workshops & Events | K9: =F52 -> 900
I10: =LEFT(A64,16) -> B3. Travel costs | K10: =F66 -> 500
I11: =A78 -> B4. Other costs | K11: =F80 -> 500
I12: Budget available | K12: =K4-K5 -> 2755.2373
A14: A. Calculation of HR expenditures | I14: Total HR expenditures | N14: =IF(N20>0,N20+N24,N18+N24) -> 13344.763 | P14: Info
A16: A1. Salary upgrade (fill in 1st line for TUM employees, or 2nd line for fellows outside TUM) | J16: 45688 | L16: 45689
A17: Starting date (tt.mm.yyyy) | B17: Ending date (tt.mm.yyyy) | C17: Months | D17: Individual salary group (TUM) (choose from list) | F17: Individual level of experience (choose from list) | G17: Individual workshare | I17: Upgrade-percentage | J17: monthly Salary (100% until 02.2027) | K17: Months1 | L17: monthly Salary (100%, from 03/27) | M17: Months2 | N17: Budget used | P17: Fellows with a contract less than 100% can use the fellowship to temporarily upgrade their salary. If fellows already have a 100% contract, we cannot pay individual stipends or other types of working contracts. To check this, please state your individual work share.
A18: 46357 | B18: 46477 | C18: =DATEDIF(A18,B18,"M")+1 -> 4 | D18: E13 | F18: 4 | G18: 0.7 | I18: 0.3 | J18: =IF($B$18<$L$22="WAHR",0,IFERROR(VLOOKUP($D$18,Tabellengehälter_2026!$A$3:$G$21,$F$18+1,FALSE),0)) -> 7931.3177 | K18: =IFERROR(IF($B$18>$J$22,DATEDIF($A$18,$J$22,"M")+1,DATEDIF($A$18,$B$18,"M")+1),0) -> 3 | L18: =IF($B$18<$L$22=TRUE,0,IFERROR(VLOOKUP($D$18,Tabellengehälter_2027!$A$3:$G$21,$F$18+1,FALSE)," ")) -> 8089.9424 | M18: =C18-K18 -> 1 | N18: =IFERROR((J18*$I$18*$K$18)+($L$18*$I$18*$M$18),0) -> 9565.1687
A19: Starting date (tt.mm.yyyy) | B19: Ending date (tt.mm.yyyy) | C19: Months | D19: Individual salary (non-TUM) in EUR/month | G19: Individual workshare | I19: Upgrade-percentage | N19: Budget used
C20: =DATEDIF(A20,B20,"M")+1 -> 1 | N20: =IFERROR((D20/G20*I20*C20),0) -> 0
A22: A2. Student assistants | J22: 46446 | L22: 46447
A23: Starting date (tt.mm.yyyy) | B23: Ending date (tt.mm.yyyy) | C23: Months | D23: BA / no degree (choose from list) | F23: Weekly working hours | G23: Name of assistant (if available) | J23: monthly Salary (04/2026 until 03/2027) | K23: Months | L23: monthly Salary (04/2027) | M23: Months | N23: Budget used | P23: Student assistants will be paid the standard TUM rates. For contracts with a weekly workload > 8 hours, social insurance fees apply. This is considered in the calculated values.
N24: =IFERROR(SUM(N25:N31),0) -> 3779.594
A25: 46143 | B25: 46235 | C25: =DATEDIF(A25,B25,"M")+1 -> 4 | D25: no degree | F25: 4 | J25: =IFERROR(IF(F25>8.5,VLOOKUP($F25,Stundensätze!$A$5:$C$43,$O25+1,FALSE)*1.093*1.3,VLOOKUP($F25,Stundensätze!$A$5:$C$43,$O25+1,FALSE)*1.093),0) -> 288.552 | K25: 11 | L25: =IFERROR(IF(F25>8.5,VLOOKUP($F25,Stundensätze!$A$5:$C$43,$O25+1,FALSE)*1.093*1.3,VLOOKUP($F25,Stundensätze!$E$5:$G$43,$O25+1,FALSE)*1.093),0) -> 302.761 | M25: 2 | N25: =IFERROR(($J25*$K25)+($L25*$M25),0) -> 3779.594 | O25: =IF(D25="BA/MA",1,2) -> 2
C26: =DATEDIF(A26,B26,"M")+1 -> 1 | J26: =IFERROR(IF(F26>8,VLOOKUP($F26,Stundensätze!$A$5:$C$43,$O26+1,FALSE)*1.093*1.3,VLOOKUP($F26,Stundensätze!$A$5:$C$43,$O26+1,FALSE)*1.093),0) -> 0 | K26: =IFERROR(DATEDIF(A26,$J$22,"M")+1,0) -> 1526 | L26: =IFERROR(IF(F26>8,VLOOKUP($F26,Stundensätze!$A$5:$C$43,$O26+1,FALSE)*1.093*1.3,VLOOKUP($F26,Stundensätze!$E$5:$G$43,$O26+1,FALSE)*1.093),0) -> 0 | M26: =IFERROR(DATEDIF($L$22,B26,"M")+1,0) -> 0 | N26: =IFERROR(($J26*$K26)+($L26*$M26),0) -> 0 | O26: =IF(D26="BA/MA",1,2) -> 2
C27: =DATEDIF(A27,B27,"M")+1 -> 1 | J27: =IFERROR(IF(F27>8,VLOOKUP($F27,Stundensätze!$A$5:$C$43,$O27+1,FALSE)*1.093*1.3,VLOOKUP($F27,Stundensätze!$A$5:$C$43,$O27+1,FALSE)*1.093),0) -> 0 | K27: =IFERROR(DATEDIF(A27,$J$22,"M")+1,0) -> 1526 | L27: =IFERROR(IF(F27>8,VLOOKUP($F27,Stundensätze!$A$5:$C$43,$O27+1,FALSE)*1.093*1.3,VLOOKUP($F27,Stundensätze!$E$5:$G$43,$O27+1,FALSE)*1.093),0) -> 0 | M27: =IFERROR(DATEDIF($L$22,B27,"M")+1,0) -> 0 | N27: =IFERROR(($J27*$K27)+($L27*$M27),0) -> 0 | O27: =IF(D27="BA/MA",1,2) -> 2
C28: =DATEDIF(A28,B28,"M")+1 -> 1 | J28: =IFERROR(IF(F28>8,VLOOKUP($F28,Stundensätze!$A$5:$C$43,$O28+1,FALSE)*1.093*1.3,VLOOKUP($F28,Stundensätze!$A$5:$C$43,$O28+1,FALSE)*1.093),0) -> 0 | K28: =IFERROR(DATEDIF(A28,$J$22,"M")+1,0) -> 1526 | L28: =IFERROR(IF(F28>8,VLOOKUP($F28,Stundensätze!$A$5:$C$43,$O28+1,FALSE)*1.093*1.3,VLOOKUP($F28,Stundensätze!$E$5:$G$43,$O28+1,FALSE)*1.093),0) -> 0 | M28: =IFERROR(DATEDIF($L$22,B28,"M")+1,0) -> 0 | N28: =IFERROR(($J28*$K28)+($L28*$M28),0) -> 0 | O28: =IF(D28="BA/MA",1,2) -> 2
C29: =DATEDIF(A29,B29,"M")+1 -> 1 | J29: =IFERROR(IF(F29>8,VLOOKUP($F29,Stundensätze!$A$5:$C$43,$O29+1,FALSE)*1.093*1.3,VLOOKUP($F29,Stundensätze!$A$5:$C$43,$O29+1,FALSE)*1.093),0) -> 0 | K29: =IFERROR(DATEDIF(A29,$J$22,"M")+1,0) -> 1526 | L29: =IFERROR(IF(F29>8,VLOOKUP($F29,Stundensätze!$A$5:$C$43,$O29+1,FALSE)*1.093*1.3,VLOOKUP($F29,Stundensätze!$E$5:$G$43,$O29+1,FALSE)*1.093),0) -> 0 | M29: =IFERROR(DATEDIF($L$22,B29,"M")+1,0) -> 0 | N29: =IFERROR(($J29*$K29)+($L29*$M29),0) -> 0 | O29: =IF(D29="BA/MA",1,2) -> 2
C30: =DATEDIF(A30,B30,"M")+1 -> 1 | J30: =IFERROR(IF(F30>8,VLOOKUP($F30,Stundensätze!$A$5:$C$43,$O30+1,FALSE)*1.093*1.3,VLOOKUP($F30,Stundensätze!$A$5:$C$43,$O30+1,FALSE)*1.093),0) -> 0 | K30: =IFERROR(DATEDIF(A30,$J$22,"M")+1,0) -> 1526 | L30: =IFERROR(IF(F30>8,VLOOKUP($F30,Stundensätze!$A$5:$C$43,$O30+1,FALSE)*1.093*1.3,VLOOKUP($F30,Stundensätze!$E$5:$G$43,$O30+1,FALSE)*1.093),0) -> 0 | M30: =IFERROR(DATEDIF($L$22,B30,"M")+1,0) -> 0 | N30: =IFERROR(($J30*$K30)+($L30*$M30),0) -> 0 | O30: =IF(D30="BA/MA",1,2) -> 2
C31: =DATEDIF(A31,B31,"M")+1 -> 1 | J31: =IFERROR(IF(F31>8,VLOOKUP($F31,Stundensätze!$A$5:$C$43,$O31+1,FALSE)*1.093*1.3,VLOOKUP($F31,Stundensätze!$A$5:$C$43,$O31+1,FALSE)*1.093),0) -> 0 | K31: =IFERROR(DATEDIF(A31,$J$22,"M")+1,0) -> 1526 | L31: =IFERROR(IF(F31>8,VLOOKUP($F31,Stundensätze!$A$5:$C$43,$O31+1,FALSE)*1.093*1.3,VLOOKUP($F31,Stundensätze!$E$5:$G$43,$O31+1,FALSE)*1.093),0) -> 0 | M31: =IFERROR(DATEDIF($L$22,B31,"M")+1,0) -> 0 | N31: =IFERROR(($J31*$K31)+($L31*$M31),0) -> 0 | O31: =IF(D31="BA/MA",1,2) -> 2
A34: B. Calculation of non-HR expenditures | J34: Total non-HR expenditures | N34: =F38+F52+F66+F80 -> 3900
A36: B1. Infrastructure
A37: Description | D37: Price per item / EUR | E37: pieces | F37: Budget used | H37: Fellows Comments | P37: If you buy equipment, such as hardware or software, please make sure, that adressee of the invoice is Technical University Munich Chair / Professorship Street and Number (of Chair / Professorship) Zip City Germany Please state the unique identifier of your project and / or your name when ordering! This enables the correct accounting of your project costs.
F38: =SUM(F39:F48) -> 2000
A39: Laptop | D39: 2000 | E39: 1 | F39: =D39*E39 -> 2000
F40: =D40*E40 -> 0
F41: =D41*E41 -> 0
F42: =D42*E42 -> 0
F43: =D43*E43 -> 0
F44: =D44*E44 -> 0
F45: =D45*E45 -> 0
F46: =D46*E46 -> 0
...

Sheet Stammdaten
A1: Beschäftigungsarten | C1: Konto | D1: Kostenart | E1: Stellenbewertungen | G1: Prüfungsergebnis HfP
A2: wissenschaftlicher Mitarbeiter | B2: 1 | C2: 42801(01) | D2: 42801001 | E2: E5 | G2: Die Planstelle ist verfügbar, damit ist die Finanzierung gewährleistet
A3: Nicht-wissenschaftlicher Mitarbeiter | B3: 1 | C3: 42801(02) | D3: 42801002 | E3: E6 | G3: Der Planstellenanteil ist verfügbar, damit ist die Finanzierung gewährleistet
A4: Studentische Hilfskraft | B4: 2 | C4: 42801(03) | D4: 42801003 | E4: E7 | G4: Die Finanzierung ist nicht gewährleistet, weil die Planstelle/der Planstellenanteil nicht verfügbar ist
A5: E-Scout/Tutor | B5: 2 | C5: 42811 | D5: 42811001 | E5: E8 | G5: Die Finanzierung ist gewährleistet, da der verfügbare Haushaltsansatz ausreichend ist.
C6: 42896(01) | D6: 42811002 | E6: E9a | G6: Die Finanzierung ist nicht gewährleistet, da der verfügbare Haushaltsansatz nicht ausreichend ist.
A7: Professuren | C7: 42896(02) | D7: 42896001 | E7: E9b
A8: European and Global Governance (Conceicao-Heldt) | C8: 42896(03) | D8: 42986002 | E8: E10
A9: International Relations (Büthe) | C9: Professoren | D9: 42896003 | E9: E11 | G9: Varianten verfügbares Budget
A10: Political Data Science (Hegelich) | C10: Prof. Dr. Eugénia da Conceição-Heldt | E10: E12 | G10: Variante 1
A11: Political Philosophy and Theory (Ulbricht komm.) | C11: Prof. Dr. Tim Büthe | E11: E13 | G11: Variante 2
A12: Computational Social Science (Pfeffer) | C12: Prof. Dr. Simon Hegelich | E12: E13Ü | G12: Variante 3
A13: Environmental and Climate Policy (Schreurs) | C13: Prof. Dr. Lena Ulbricht | E13: E14 | G13: Variante 4
A14: Policy Analysis (Wurster) | C14: Prof. Dr. Jürgen Pfeffer | E14: E15
A15: Global Health (Steinert) | C15: Prof. Dr. Miranda Schreurs | E15: E15Ü
A16: International Political Economy (Sebö komm.) | C16: Prof. Dr. Stefan Wurster | E16: W1
A17: Politics of Finance (Pond) | C17: Prof. Dr. Janina Steinert | E17: W2
A18: Global Security & Technology (Paula) | C18: Prof. Dr. Mariana Sebö | E18: W2 TT
A19: Digital Governance (Theocharis) | C19: Prof. Dr. Amy Pond | E19: W3
A20: Public Policy, Governance and Innovative Technology (Gasser) | C20: Prof. Dr. Katrin Paula
A21: TUM Think Tank | C21: Prof. Dr. Ioannis Theocharis
A22: Verwaltung | C22: Prof. Dr. Urs Gasser
E23: Stufen
A24: Kostenstelle | C24: Kostenstellenbezeichnung | E24: 1
A25: XHP0091000 | C25: Hochschulleitung | E25: 2
A26: XHP0092000 | C26: Bibliothek | E26: 3
A27: XHP0093000 | C27: Verwaltung allgemein | E27: 4
A28: XHP0094000 | C28: IT | E28: 5
A29: XHP0095000 | C29: ÖAR/Marketing | E29: 6
A30: XHP0096000 | C30: Studienzuschüsse
A31: XHP0099001 | C31: European and Global Governance (Conceicao-Heldt) | E31: Sozverspflicht
A32: XHP0990101 | C32: HfP Seed Funds | E32: ja
A33: XHP0099002 | C33: International Relations (Büthe) | E33: nein
A34: XHP0990201 | C34: HfP Seed Funds
A35: XHP0099003 | C35: Political Data Science (Hegelich) | E35: Drittmittel
A36: XHP0099004 | C36: Political Philosophy and Theory (Ulbricht komm.) | E36: Drittmittel TUM-SOT
A37: XHP0099005 | C37: Computational Social Science (Pfeffer) | E37: Drittmittel HfP
A38: XHP0099006 | C38: Environmental and Climate Policy (Schreurs)
A39: XHP0990601 | C39: HfP Seed Funds | E39: BA / no degree
A40: XHP0099007 | C40: Policy Analysis (Wurster) | E40: BA
...

Sheet Tabellengehälter_2026
A1: Entgelttabelle TV-L 2026 (ab 01.04.2026, inkl. AG-Anteil 30%) | H1: Jahressonderzahlung TV-L
A2: € | B2: 1 | C2: 2 | D2: 3 | E2: 4 | F2: 5 | G2: 6
A3: E15Ü | B3: =(6857.14+(6857.14*32.53%/12))*1.3 -> 9155.9333 | C3: =(7587.33+(7587.33*32.53%/12))*1.3 -> 10130.913 | D3: =(8280.33+(8280.33*32.53%/12))*1.3 -> 11056.235 | E3: =(8734.83+(8734.83*32.53%/12))*1.3 -> 11663.102 | F3: =(8846.64+(8846.64*32.53%/12))*1.3 -> 11812.395 | G3: 0 | H3: 0.3253 | J3: 2018 | K3: 2019 | L3: 2020 | M3: 2022
A4: E15 | B4: =(5658.38+(5658.38*32.53%/12))*1.3 -> 7555.3 | C4: =(6067.3+(6067.3*32.53%/12))*1.3 -> 8101.3067 | D4: =(6283.38+(6283.38*32.53%/12))*1.3 -> 8389.8255 | E4: =(7050.89+(7050.89*32.53%/12))*1.3 -> 9414.6362 | F4: =(7632.07+(7632.07*32.53%/12))*1.3 -> 10190.652 | G4: =(7854.52+(7854.52*32.53%/12))*1.3 -> 10487.676 | H4: 0.3253 | I4: E 14 bis E 15 | J4: 0.35 | K4: 0.3398 | L4: 0.3295 | M4: 0.3253
A5: E14 | B5: =(5143.59+(5143.59*32.53%/12))*1.3 -> 6867.9314 | C5: =(5515.9+(5515.9*32.53%/12))*1.3 -> 7365.0549 | D5: =(5821.41+(5821.41*32.53%/12))*1.3 -> 7772.9843 | E5: =(6283.38+(6283.38*32.53%/12))*1.3 -> 8389.8255 | F5: =(6991.23+(6991.23*32.53%/12))*1.3 -> 9334.9758 | G5: =(7194.48+(7194.48*32.53%/12))*1.3 -> 9606.3635 | H5: 0.3253 | I5: E 12 bis E 13 | J5: 0.5 | K5: 0.4854 | L5: 0.4707 | M5: 0.4647
A6: E13Ü | C6: =(5106.09+(5106.09*32.53%/12))*1.3 -> 6817.8599 | D6: =(5366.89+(5366.89*32.53%/12))*1.3 -> 7166.0907 | F6: =(6991.23+(6991.23*32.53%/12))*1.3 -> 9334.9758 | G6: =(7194.48+(7194.48*32.53%/12))*1.3 -> 9606.3635 | H6: 0.3253 | I6: E 9a bis E 11 | J6: 0.8 | K6: 0.7766 | L6: 0.7531 | M6: 0.7435
A7: E13 | B7: =(4759.37+(4759.37*46.47%/12))*1.3 -> 6426.7796 | C7: =(5106.09+(5106.09*46.47%/12))*1.3 -> 6894.9703 | D7: =(5366.89+(5366.89*46.47%/12))*1.3 -> 7247.1397 | E7: =(5873.56+(5873.56*46.47%/12))*1.3 -> 7931.3177 | F7: =(6573.97+(6573.97*46.47%/12))*1.3 -> 8877.1111 | G7: =(6764.69+(6764.69*46.47%/12))*1.3 -> 9134.6484 | H7: 0.4647 | I7: E 5 bis E 8 | J7: 0.95 | K7: 0.9219 | L7: 0.894 | M7: 0.8814
A8: E12 | B8: =(4310.9+(4310.9*46.47%/12))*1.3 -> 5821.1915 | C8: =(4599.41+(4599.41*46.47%/12))*1.3 -> 6210.7788 | D8: =(5210.41+(5210.41*46.47%/12))*1.3 -> 7035.8381 | E8: =(5746.9+(5746.9*46.47%/12))*1.3 -> 7760.2833 | F8: =(6439.85+(6439.85*46.47%/12))*1.3 -> 8696.0031 | G8: =(6626.54+(6626.54*46.47%/12))*1.3 -> 8948.0986 | H8: 0.4647 | I8: E 1 bis E 4 | K8: 0.9169 | L8: 0.8891 | M8: 0.8743
A9: E11 | B9: =(4178.35+(4178.35*74.35%/12))*1.3 -> 5768.4037 | C9: =(4444.86+(4444.86*74.35%/12))*1.3 -> 6136.333 | D9: =(4748.43+(4748.43*74.35%/12))*1.3 -> 6555.4253 | E9: =(5210.41+(5210.41*74.35%/12))*1.3 -> 7193.2098 | F9: =(5881.02+(5881.02*74.35%/12))*1.3 -> 8119.0177 | G9: =(6050.95+(6050.95*74.35%/12))*1.3 -> 8353.6138 | H9: 0.7435
A10: E10 | B10: =(4038.42+(4038.42*74.35%/12))*1.3 -> 5575.2239 | C10: =(4299.95+(4299.95*74.35%/12))*1.3 -> 5936.2781 | D10: =(4599.41+(4599.41*74.35%/12))*1.3 -> 6349.6963 | E10: =(4904.89+(4904.89*74.35%/12))*1.3 -> 6771.4255 | F10: =(5486.13+(5486.13*74.35%/12))*1.3 -> 7573.8539 | G10: =(5644.2+(5644.2*74.35%/12))*1.3 -> 7792.0768 | H10: 0.7435
A11: E9b | B11: =(3620.1+(3620.1*74.35%/12))*1.3 -> 4997.714 | C11: =(3870.81+(3870.81*74.35%/12))*1.3 -> 5343.8306 | D11: =(4035.07+(4035.07*74.35%/12))*1.3 -> 5570.5991 | E11: =(4488.99+(4488.99*74.35%/12))*1.3 -> 6197.2564 | F11: =(4875.1+(4875.1*74.35%/12))*1.3 -> 6730.299 | G11: =(5014.87+(5014.87*74.35%/12))*1.3 -> 6923.2579 | H11: 0.7435
A12: E9a | B12: =(3620.1+(3620.1*74.35%/12))*1.3 -> 4997.714 | C12: =(3870.81+(3870.81*74.35%/12))*1.3 -> 5343.8306 | D12: =(3925.58+(3925.58*74.35%/12))*1.3 -> 5419.4431 | E12: =(4035.07+(4035.07*74.35%/12))*1.3 -> 5570.5991 | F12: =(4488.99+(4488.99*74.35%/12))*1.3 -> 6197.2564 | G12: =(4615.76+(4615.76*74.35%/12))*1.3 -> 6372.2682 | H12: 0.7435
A13: E 8 | B13: =(3419.52+(3419.52*88.14%/12))*1.3 -> 4771.8889 | C13: =(3659.02+(3659.02*88.14%/12))*1.3 -> 5106.1075 | D13: =(3795.52+(3795.52*88.14%/12))*1.3 -> 5296.5912 | E13: =(3925.58+(3925.58*88.14%/12))*1.3 -> 5478.088 | F13: =(4069.31+(4069.31*88.14%/12))*1.3 -> 5678.6611 | G13: =(4158.27+(4158.27*88.14%/12))*1.3 -> 5802.8034 | H13: 0.8814
A14: E 7 | B14: =(3235.83+(3235.83*88.14%/12))*1.3 -> 4515.5522 | C14: =(3469.72+(3469.72*88.14%/12))*1.3 -> 4841.9422 | D14: =(3645.69+(3645.69*88.14%/12))*1.3 -> 5087.5057 | E14: =(3781.85+(3781.85*88.14%/12))*1.3 -> 5277.5149 | F14: =(3891.36+(3891.36*88.14%/12))*1.3 -> 5430.3345 | G14: =(3987.16+(3987.16*88.14%/12))*1.3 -> 5564.022 | H14: 0.8814
A15: E 6 | B15: =(3186.57+(3186.57*88.14%/12))*1.3 -> 4446.8106 | C15: =(3418.08+(3418.08*88.14%/12))*1.3 -> 4769.8794 | D15: =(3547.2+(3547.2*88.14%/12))*1.3 -> 4950.0644 | E15: =(3679.2+(3679.2*88.14%/12))*1.3 -> 5134.2684 | F15: =(3768.15+(3768.15*88.14%/12))*1.3 -> 5258.3968 | G15: =(3863.96+(3863.96*88.14%/12))*1.3 -> 5392.0982 | H15: 0.8814

Sheet Tabellengehälter_2027
A1: Entgelttabelle TV-L 2027 (01.03.2027 - 31.12.2027, inkl. AG-Anteil 30%) | H1: Jahressonderzahlung TV-L
A2: € | B2: 1 | C2: 2 | D2: 3 | E2: 4 | F2: 5 | G2: 6
A3: E15Ü | B3: =(6994.28+(6994.28*32.53%/12))*1.3 -> 9339.0483 | C3: =(7739.08+(7739.08*32.53%/12))*1.3 -> 10333.536 | D3: =(8445.94+(8445.94*32.53%/12))*1.3 -> 11277.364 | E3: =(8909.53+(8909.53*32.53%/12))*1.3 -> 11896.368 | F3: =(9023.57+(9023.57*32.53%/12))*1.3 -> 12048.639 | G3: 0 | H3: 0.3253 | J3: 2018 | K3: 2019 | L3: 2020 | M3: 2022
A4: E15 | B4: =(5771.55+(5771.55*32.53%/12))*1.3 -> 7706.4092 | C4: =(6188.65+(6188.65*32.53%/12))*1.3 -> 8263.3382 | D4: =(6409.05+(6409.05*32.53%/12))*1.3 -> 8557.6253 | E4: =(7191.91+(7191.91*32.53%/12))*1.3 -> 9602.9319 | F4: =(7784.71+(7784.71*32.53%/12))*1.3 -> 10394.463 | G4: =(8011.61+(8011.61*32.53%/12))*1.3 -> 10697.429 | H4: 0.3253 | I4: E 14 bis E 15 | J4: 0.35 | K4: 0.3398 | L4: 0.3295 | M4: 0.3253
A5: E14 | B5: =(5246.46+(5246.46*32.53%/12))*1.3 -> 7005.2876 | C5: =(5626.22+(5626.22*32.53%/12))*1.3 -> 7512.3587 | D5: =(5937.84+(5937.84*32.53%/12))*1.3 -> 7928.4464 | E5: =(6409.05+(6409.05*32.53%/12))*1.3 -> 8557.6253 | F5: =(7131.05+(7131.05*32.53%/12))*1.3 -> 9521.6691 | G5: =(7338.37+(7338.37*32.53%/12))*1.3 -> 9798.4913 | H5: 0.3253 | I5: E 12 bis E 13 | J5: 0.5 | K5: 0.4854 | L5: 0.4707 | M5: 0.4647
A6: E13Ü | C6: =(5208.21+(5208.21*32.53%/12))*1.3 -> 6954.2147 | D6: =(5474.23+(5474.23*32.53%/12))*1.3 -> 7309.4154 | E6: =(6409.05+(6409.05*32.53%/12))*1.3 -> 8557.6253 | F6: =(7131.05+(7131.05*32.53%/12))*1.3 -> 9521.6691 | G6: =(7338.37+(7338.37*32.53%/12))*1.3 -> 9798.4913 | H6: 0.3253 | I6: E 9a bis E 11 | J6: 0.8 | K6: 0.7766 | L6: 0.7531 | M6: 0.7435
A7: E13 | B7: =(4854.56+(4854.56*46.47%/12))*1.3 -> 6555.3187 | C7: =(5208.21+(5208.21*46.47%/12))*1.3 -> 7032.8673 | D7: =(5474.23+(5474.23*46.47%/12))*1.3 -> 7392.0854 | E7: =(5991.03+(5991.03*46.47%/12))*1.3 -> 8089.9424 | F7: =(6705.45+(6705.45*46.47%/12))*1.3 -> 9054.6541 | G7: =(6899.98+(6899.98*46.47%/12))*1.3 -> 9317.3362 | H7: 0.4647 | I7: E 5 bis E 8 | J7: 0.95 | K7: 0.9219 | L7: 0.894 | M7: 0.8814
A8: E12 | B8: =(4397.12+(4397.12*46.47%/12))*1.3 -> 5937.618 | C8: =(4691.4+(4691.4*46.47%/12))*1.3 -> 6334.9968 | D8: =(5314.62+(5314.62*46.47%/12))*1.3 -> 7176.5573 | E8: =(5861.84+(5861.84*46.47%/12))*1.3 -> 7915.4917 | F8: =(6568.65+(6568.65*46.47%/12))*1.3 -> 8869.9273 | G8: =(6759.07+(6759.07*46.47%/12))*1.3 -> 9127.0595 | H8: 0.4647 | I8: E 1 bis E 4 | K8: 0.9169 | L8: 0.8891 | M8: 0.8743
A9: E11 | B9: =(4261.92+(4261.92*74.35%/12))*1.3 -> 5883.7759 | C9: =(4533.76+(4533.76*74.35%/12))*1.3 -> 6259.0635 | D9: =(4843.4+(4843.4*74.35%/12))*1.3 -> 6686.5357 | E9: =(5314.62+(5314.62*74.35%/12))*1.3 -> 7337.0765 | F9: =(5998.64+(5998.64*74.35%/12))*1.3 -> 8281.3975 | G9: =(6171.97+(6171.97*74.35%/12))*1.3 -> 8520.6875 | H9: 0.7435
A10: E10 | B10: =(4119.19+(4119.19*74.35%/12))*1.3 -> 5686.7306 | C10: =(4385.95+(4385.95*74.35%/12))*1.3 -> 6055.005 | D10: =(4691.4+(4691.4*74.35%/12))*1.3 -> 6476.6927 | E10: =(5002.99+(5002.99*74.35%/12))*1.3 -> 6906.857 | F10: =(5595.85+(5595.85*74.35%/12))*1.3 -> 7725.3274 | G10: =(5757.08+(5757.08*74.35%/12))*1.3 -> 7947.9128 | H10: 0.7435
A11: E9b | B11: =(3692.5+(3692.5*74.35%/12))*1.3 -> 5097.6655 | C11: =(3948.23+(3948.23*74.35%/12))*1.3 -> 5450.7125 | D11: =(4115.77+(4115.77*74.35%/12))*1.3 -> 5682.0091 | E11: =(4578.77+(4578.77*74.35%/12))*1.3 -> 6321.2018 | F11: =(4972.6+(4972.6*74.35%/12))*1.3 -> 6864.9022 | G11: =(5115.17+(5115.17*74.35%/12))*1.3 -> 7061.7266 | H11: 0.7435
A12: E9a | B12: =(3692.5+(3692.5*74.35%/12))*1.3 -> 5097.6655 | C12: =(3948.23+(3948.23*74.35%/12))*1.2 -> 5031.4269 | D12: =(4004.09+(4004.09*74.35%/12))*1.3 -> 5527.8298 | E12: =(4115.77+(4115.77*74.35%/12))*1.3 -> 5682.0091 | F12: =(4578.77+(4578.77*74.35%/12))*1.3 -> 6321.2018 | G12: =(4708.08+(4708.08*74.35%/12))*1.3 -> 6499.7202 | H12: 0.7435
A13: E 8 | B13: =(3487.91+(3487.91*88.14%/12))*1.3 -> 4867.3261 | C13: =(3732.2+(3732.2*88.14%/12))*1.3 -> 5208.2291 | D13: =(3871.43+(3871.43*88.14%/12))*1.3 -> 5402.5225 | E13: =(4004.09+(4004.09*88.14%/12))*1.3 -> 5587.6475 | F13: =(4150.7+(4150.7*88.14%/12))*1.3 -> 5792.2396 | G13: =(4241.44+(4241.44*88.14%/12))*1.3 -> 5918.8659 | H13: 0.8814
A14: E 7 | B14: =(3300.55+(3300.55*88.14%/12))*1.3 -> 4605.868 | C14: =(3539.11+(3539.11*88.14%/12))*1.3 -> 4938.7749 | D14: =(3718.6+(3718.6*88.14%/12))*1.3 -> 5189.2505 | E14: =(3857.49+(3857.49*88.14%/12))*1.3 -> 5383.0694 | F14: =(3969.19+(3969.19*88.14%/12))*1.3 -> 5538.9451 | G14: =(4066.9+(4066.9*88.14%/12))*1.3 -> 5675.2979 | H14: 0.8814
A15: E 6 | B15: =(3250.3+(3250.3*88.14%/12))*1.3 -> 4535.7449 | C15: =(3486.44+(3486.44*88.14%/12))*1.3 -> 4865.2747 | D15: =(3618.14+(3618.14*88.14%/12))*1.3 -> 5049.0601 | E15: =(3752.78+(3752.78*88.14%/12))*1.3 -> 5236.9482 | F15: =(3843.51+(3843.51*88.14%/12))*1.3 -> 5363.5606 | G15: =(3941.24+(3941.24*88.14%/12))*1.3 -> 5499.9413 | H15: 0.8814

Sheet Tabellengehälter_2028
A1: Entgelttabelle TV-L 2028 (ab 01.01.2028 - 31.01.2028, inkl. AG-Anteil 30%) | H1: Jahressonderzahlung TV-L
A2: € | B2: 1 | C2: 2 | D2: 3 | E2: 4 | F2: 5 | G2: 6
A3: E15Ü | B3: =(7064.22+(7064.22*32.53%/12))*1.3 -> 9432.435 | C3: =(7816.47+(7816.47*32.53%/12))*1.3 -> 10436.87 | D3: =(8530.4+(8530.4*32.53%/12))*1.3 -> 11390.138 | E3: =(8998.63+(8998.63*32.53%/12))*1.3 -> 12015.338 | F3: =(9113.81+(9113.81*32.53%/12))*1.3 -> 12169.131 | G3: 0 | H3: 0.3253 | J3: 2018 | K3: 2019 | L3: 2020 | M3: 2022
A4: E15 | B4: =(5829.27+(5829.27*32.53%/12))*1.3 -> 7783.4793 | C4: =(6250.54+(6250.54*32.53%/12))*1.3 -> 8345.9762 | D4: =(6473.14+(6473.14*32.53%/12))*1.3 -> 8643.2008 | E4: =(7263.83+(7263.83*32.53%/12))*1.3 -> 9698.9624 | F4: =(7862.56+(7862.56*32.53%/12))*1.3 -> 10498.411 | G4: =(8091.73+(8091.73*32.53%/12))*1.3 -> 10804.408 | H4: 0.3253 | I4: E 14 bis E 15 | J4: 0.35 | K4: 0.3398 | L4: 0.3295 | M4: 0.3253
A5: E14 | B5: =(5298.92+(5298.92*32.53%/12))*1.3 -> 7075.3344 | C5: =(5682.48+(5682.48*32.53%/12))*1.3 -> 7587.4793 | D5: =(5997.22+(5997.22*32.53%/12))*1.3 -> 8007.733 | E5: =(6473.14+(6473.14*32.53%/12))*1.3 -> 8643.2008 | F5: =(7202.36+(7202.36*32.53%/12))*1.3 -> 9616.8852 | G5: =(7411.75+(7411.75*32.53%/12))*1.3 -> 9896.4712 | H5: 0.3253 | I5: E 12 bis E 13 | J5: 0.5 | K5: 0.4854 | L5: 0.4707 | M5: 0.4647
A6: E13Ü | C6: =(5260.29+(5260.29*32.53%/12))*1.3 -> 7023.754 | D6: =(5528.97+(5528.97*32.53%/12))*1.3 -> 7382.5065 | E6: =(6473.14+(6473.14*32.53%/12))*1.3 -> 8643.2008 | F6: =(7202.36+(7202.36*32.53%/12))*1.3 -> 9616.8852 | G6: =(7411.75+(7411.75*32.53%/12))*1.3 -> 9896.4712 | H6: 0.3253 | I6: E 9a bis E 11 | J6: 0.8 | K6: 0.7766 | L6: 0.7531 | M6: 0.7435
A7: E13 | B7: =(4903.11+(4903.11*46.47%/12))*1.3 -> 6620.8778 | C7: =(5260.29+(5260.29*46.47%/12))*1.3 -> 7103.1931 | D7: =(5528.97+(5528.97*46.47%/12))*1.3 -> 7466.0032 | E7: =(6050.94+(6050.94*46.47%/12))*1.3 -> 8170.8414 | F7: =(6772.5+(6772.5*46.47%/12))*1.3 -> 9145.1946 | G7: =(6968.98+(6968.98*46.47%/12))*1.3 -> 9410.5099 | H7: 0.4647 | I7: E 5 bis E 8 | J7: 0.95 | K7: 0.9219 | L7: 0.894 | M7: 0.8814
A8: E12 | B8: =(4441.09+(4441.09*46.47%/12))*1.3 -> 5996.9926 | C8: =(4738.31+(4738.31*46.47%/12))*1.3 -> 6398.3414 | D8: =(5367.77+(5367.77*46.47%/12))*1.3 -> 7248.328 | E8: =(5920.46+(5920.46*46.47%/12))*1.3 -> 7994.6488 | F8: =(6634.34+(6634.34*46.47%/12))*1.3 -> 8958.6313 | G8: =(6826.66+(6826.66*46.47%/12))*1.3 -> 9218.3291 | H8: 0.4647 | I8: E 1 bis E 4 | K8: 0.9169 | L8: 0.8891 | M8: 0.8743
A9: E11 | B9: =(4304.54+(4304.54*74.35%/12))*1.3 -> 5942.6148 | C9: =(4579.1+(4579.1*74.35%/12))*1.3 -> 6321.6574 | D9: =(4891.83+(4891.83*74.35%/12))*1.3 -> 6753.3955 | E9: =(5367.77+(5367.77*74.35%/12))*1.3 -> 7410.4525 | F9: =(6058.63+(6058.63*74.35%/12))*1.3 -> 8364.2164 | G9: =(6233.69+(6233.69*74.35%/12))*1.3 -> 8605.8948 | H9: 0.7435
A10: E10 | B10: =(4160.38+(4160.38*74.35%/12))*1.3 -> 5743.5953 | C10: =(4429.81+(4429.81*74.35%/12))*1.3 -> 6115.5557 | D10: =(4738.31+(4738.31*74.35%/12))*1.3 -> 6541.4541 | E10: =(5053.02+(5053.02*74.35%/12))*1.3 -> 6975.9257 | F10: =(5651.81+(5651.81*74.35%/12))*1.3 -> 7802.5827 | G10: =(5814.65+(5814.65*74.35%/12))*1.3 -> 8027.3908 | H10: 0.7435
A11: E9b | B11: =(3729.43+(3729.43*74.35%/12))*1.3 -> 5148.649 | C11: =(3987.71+(3987.71*74.35%/12))*1.3 -> 5505.2164 | D11: =(4156.93+(4156.93*74.35%/12))*1.3 -> 5738.8324 | E11: =(4624.56+(4624.56*74.35%/12))*1.3 -> 6384.417 | F11: =(5022.33+(5022.33*74.35%/12))*1.3 -> 6933.5568 | G11: =(5166.32+(5166.32*74.35%/12))*1.3 -> 7132.3415 | H11: 0.7435
A12: E9a | B12: =(3729.43+(3729.43*74.35%/12))*1.3 -> 5148.649 | C12: =(3987.71+(3987.71*74.35%/12))*1.2 -> 5081.7382 | D12: =(4044.13+(4044.13*74.35%/12))*1.3 -> 5583.1068 | E12: =(4156.93+(4156.93*74.35%/12))*1.3 -> 5738.8324 | F12: =(4624.56+(4624.56*74.35%/12))*1.3 -> 6384.417 | G12: =(4755.16+(4755.16*74.35%/12))*1.3 -> 6564.7163 | H12: 0.7435
A13: E 8 | B13: =(3522.79+(3522.79*88.14%/12))*1.3 -> 4916.0006 | C13: =(3769.52+(3769.52*88.14%/12))*1.3 -> 5260.3086 | D13: =(3910.14+(3910.14*88.14%/12))*1.3 -> 5456.5417 | E13: =(4044.13+(4044.13*88.14%/12))*1.3 -> 5643.5228 | F13: =(4192.21+(4192.21*88.14%/12))*1.3 -> 5850.1662 | G13: =(4283.85+(4283.85*88.14%/12))*1.3 -> 5978.0484 | H13: 0.8814
A14: E 7 | B14: =(3333.56+(3333.56*88.14%/12))*1.3 -> 4651.933 | C14: =(3574.5+(3574.5*88.14%/12))*1.3 -> 4988.1611 | D14: =(3755.79+(3755.79*88.14%/12))*1.3 -> 5241.1486 | E14: =(3896.06+(3896.06*88.14%/12))*1.3 -> 5436.8933 | F14: =(4008.88+(4008.88*88.14%/12))*1.3 -> 5594.3319 | G14: =(4107.57+(4107.57*88.14%/12))*1.3 -> 5732.0523 | H14: 0.8814
A15: E 6 | B15: =(3282.8+(3282.8*88.14%/12))*1.3 -> 4581.0982 | C15: =(3521.3+(3521.3*88.14%/12))*1.3 -> 4913.9213 | D15: =(3654.32+(3654.32*88.14%/12))*1.3 -> 5099.5487 | E15: =(3790.31+(3790.31*88.14%/12))*1.3 -> 5289.3208 | F15: =(3881.95+(3881.95*88.14%/12))*1.3 -> 5417.203 | G15: =(3980.65+(3980.65*88.14%/12))*1.3 -> 5554.9374 | H15: 0.8814

Sheet Stundensätze
D1: Wochen im Monat | I1: ggf noch 9,3% Zuschlag dazu rechnen!
A2: 01.04.2026 bis 31.03.2027 | E2: ab 01.04.2027
A3: Beschäftigung in Wochenstunden | B3: BA/MA | C3: no degree | D3: 4.34 | E3: Beschäftigung in Wochenstunden | F3: BA/MA | G3: no degree
B4: 15.41 | C4: 15.2 | F4: 15.8 | G4: 15.9 | H4: assumption
A5: 1 | B5: =ROUNDUP($B$4*$D$3*A5,0) -> 67 | C5: =ROUNDUP($C$4*$D$3*A5,0) -> 66 | E5: 1 | F5: =ROUNDUP($F$4*$D$3*E5,0) -> 69 | G5: =ROUNDUP($G$4*$D$3*E5,0) -> 70
A6: 1.5 | B6: =ROUNDUP($B$4*$D$3*A6,0) -> 101 | C6: =ROUNDUP($C$4*$D$3*A6,0) -> 99 | E6: 1.5 | F6: =ROUNDUP($F$4*$D$3*E6,0) -> 103 | G6: =ROUNDUP($G$4*$D$3*E6,0) -> 104
A7: 2 | B7: =ROUNDUP($B$4*$D$3*A7,0) -> 134 | C7: =ROUNDUP($C$4*$D$3*A7,0) -> 132 | E7: 2 | F7: =ROUNDUP($F$4*$D$3*E7,0) -> 138 | G7: =ROUNDUP($G$4*$D$3*E7,0) -> 139
A8: 2.5 | B8: =ROUNDUP($B$4*$D$3*A8,0) -> 168 | C8: =ROUNDUP($C$4*$D$3*A8,0) -> 165 | E8: 2.5 | F8: =ROUNDUP($F$4*$D$3*E8,0) -> 172 | G8: =ROUNDUP($G$4*$D$3*E8,0) -> 173
A9: 3 | B9: =ROUNDUP($B$4*$D$3*A9,0) -> 201 | C9: =ROUNDUP($C$4*$D$3*A9,0) -> 198 | E9: 3 | F9: =ROUNDUP($F$4*$D$3*E9,0) -> 206 | G9: =ROUNDUP($G$4*$D$3*E9,0) -> 208
A10: 3.5 | B10: =ROUNDUP($B$4*$D$3*A10,0) -> 235 | C10: =ROUNDUP($C$4*$D$3*A10,0) -> 231 | E10: 3.5 | F10: =ROUNDUP($F$4*$D$3*E10,0) -> 241 | G10: =ROUNDUP($G$4*$D$3*E10,0) -> 242
A11: 4 | B11: =ROUNDUP($B$4*$D$3*A11,0) -> 268 | C11: =ROUNDUP($C$4*$D$3*A11,0) -> 264 | E11: 4 | F11: =ROUNDUP($F$4*$D$3*E11,0) -> 275 | G11: =ROUNDUP($G$4*$D$3*E11,0) -> 277
A12: 4.5 | B12: =ROUNDUP($B$4*$D$3*A12,0) -> 301 | C12: =ROUNDUP($C$4*$D$3*A12,0) -> 297 | E12: 4.5 | F12: =ROUNDUP($F$4*$D$3*E12,0) -> 309 | G12: =ROUNDUP($G$4*$D$3*E12,0) -> 311
A13: 5 | B13: =ROUNDUP($B$4*$D$3*A13,0) -> 335 | C13: =ROUNDUP($C$4*$D$3*A13,0) -> 330 | E13: 5 | F13: =ROUNDUP($F$4*$D$3*E13,0) -> 343 | G13: =ROUNDUP($G$4*$D$3*E13,0) -> 346
A14: 5.5 | B14: =ROUNDUP($B$4*$D$3*A14,0) -> 368 | C14: =ROUNDUP($C$4*$D$3*A14,0) -> 363 | E14: 5.5 | F14: =ROUNDUP($F$4*$D$3*E14,0) -> 378 | G14: =ROUNDUP($G$4*$D$3*E14,0) -> 380
A15: 6 | B15: =ROUNDUP($B$4*$D$3*A15,0) -> 402 | C15: =ROUNDUP($C$4*$D$3*A15,0) -> 396 | E15: 6 | F15: =ROUNDUP($F$4*$D$3*E15,0) -> 412 | G15: =ROUNDUP($G$4*$D$3*E15,0) -> 415
A16: 6.5 | B16: =ROUNDUP($B$4*$D$3*A16,0) -> 435 | C16: =ROUNDUP($C$4*$D$3*A16,0) -> 429 | E16: 6.5 | F16: =ROUNDUP($F$4*$D$3*E16,0) -> 446 | G16: =ROUNDUP($G$4*$D$3*E16,0) -> 449
... A43: 20 | B43: =ROUNDUP($B$4*$D$3*A43,0) -> 1338 | C43: =ROUNDUP($C$4*$D$3*A43,0) -> 1320 | E43: 20 | F43: =ROUNDUP($F$4*$D$3*E43,0) -> 1372 | G43: =ROUNDUP($G$4*$D$3*E43,0) -> 1381
